BEGIN:VCALENDAR
VERSION:2.0
PRODID:-//ruhrmobil-E e.V. - ECPv5.16.1//NONSGML v1.0//EN
CALSCALE:GREGORIAN
METHOD:PUBLISH
X-WR-CALNAME:ruhrmobil-E e.V.
X-ORIGINAL-URL:https://ruhrmobil-e.de
X-WR-CALDESC:Veranstaltungen für ruhrmobil-E e.V.
BEGIN:VTIMEZONE
TZID:Europe/Berlin
BEGIN:DAYLIGHT
TZOFFSETFROM:+0100
TZOFFSETTO:+0200
TZNAME:CEST
DTSTART:20150329T010000
END:DAYLIGHT
BEGIN:STANDARD
TZOFFSETFROM:+0200
TZOFFSETTO:+0100
TZNAME:CET
DTSTART:20151025T010000
END:STANDARD
END:VTIMEZONE
BEGIN:VEVENT
DTSTART;VALUE=DATE:20150626
DTEND;VALUE=DATE:20150629
DTSTAMP:20260423T140148
CREATED:20150120T150830Z
LAST-MODIFIED:20150623T124031Z
UID:236-1435276800-1435535999@ruhrmobil-e.de
SUMMARY:Tour de Ruhr 2015 - Elektrofahrzeugrallye
DESCRIPTION:Route: \n1. Basislager: Ökologiestation Bergkamen Westenhellweg 110\, 59192 Bergkamen \n2. Möhnesee Gasthof-Pension Schulte Thingstraße 6\, 59519 Möhnesee Tel 02924 349 gasthof-schulte-moehnesee@t-online.de \n3. Besucherbergwerk Ramsbeck 12h Glückaufstr. 3\, 59909 Bestwig \n4. Warsteiner Brauerei: 16h Zu Haus im Waldpark\, 59581 Warstein \n5. Ruhrquelle: Haarfelder Str. 101\, 59955 Winterberg Standort: 51\,2136981\, 8\,5582957 \n6. Arnsberg Solarpark Matthias Kynast\, Einfahrt: 51\,424525\, 7.928997 \nFreitag Anreise\, Sonntag Abreise\, Aktivitäten spontan. \nBedingungen & Kosten: \n1. Startgebühr EUR 35 für die erste Person im Team\, EUR 20 für jede weitere. Ermäßigte Gebühr für „echte“ Studenten EUR 20 pro Person. In der Gebühr sind Eintrittsgelder für das Besucherbergwerk und für die Brauerei enthalten. Der Strom zum Nachladen der Fahrzeuge ist enthalten\, trotzdem wird um eine freiwillige Spende gebeten (wir bezahlen den Strom in der Ökologiestation). \n2. Zelten ist auf dem Gelände der Ökologiestation NICHT gestattet. Übernachtungsmöglichkeiten stehen im Gästehaus zur Verfügung\, zu folgenden Preisen: \n\nEUR 40 Ü/F p.P. Einzelzimmer\nEUR 30 Ü/F p.P. Doppelzimmer\nEUR 25 Ü/F p.P. Vierbettzimmer\n\nDie Übernachtungskosten werden mit der Teilnahmegebühr einkassiert. \n3. Verpflegung wie Pizza und Grillen bezahlt jeder selbst. Am Freitagabend bestellen wir Pizza und am Samstag wird gegrillt. Der Grill wird von Martin Behrs organisiert\, jeder muss sich sein Grillgut selbst mitbringen!
URL:https://ruhrmobil-e.de/veranstaltung/tour-de-ruhr-2015-elektrofahrzeugrallye/
CATEGORIES:Auto (Elektro-Auto),Rallye / Tour
END:VEVENT
END:VCALENDAR