BEGIN:VCALENDAR
VERSION:2.0
PRODID:-//ruhrmobil-E e.V. - ECPv5.16.1//NONSGML v1.0//EN
CALSCALE:GREGORIAN
METHOD:PUBLISH
X-WR-CALNAME:ruhrmobil-E e.V.
X-ORIGINAL-URL:https://ruhrmobil-e.de
X-WR-CALDESC:Veranstaltungen für ruhrmobil-E e.V.
BEGIN:VTIMEZONE
TZID:Europe/Berlin
BEGIN:DAYLIGHT
TZOFFSETFROM:+0100
TZOFFSETTO:+0200
TZNAME:CEST
DTSTART:20200329T010000
END:DAYLIGHT
BEGIN:STANDARD
TZOFFSETFROM:+0200
TZOFFSETTO:+0100
TZNAME:CET
DTSTART:20201025T010000
END:STANDARD
END:VTIMEZONE
BEGIN:VEVENT
DTSTART;TZID=Europe/Berlin:20200306T100000
DTEND;TZID=Europe/Berlin:20200307T160000
DTSTAMP:20260422T003512
CREATED:20200227T141922Z
LAST-MODIFIED:20200227T142824Z
UID:5652-1583488800-1583596800@ruhrmobil-e.de
SUMMARY:Roadshow OPEL Corsa-E
DESCRIPTION:Vorstellung Opel Corsa-E Bild: eShare.one \nDie eShare.one\, BELKAW und die Gewerbekundenspezialisten vom Autohaus Gebr. Gieraths stellen den neuen OPEL Corsa-E vor und ruhrmobil-E unterstützt sie dabei. Kommen Sie am 6. und 7. März 2020 zum Ladepark Schildgen (Zum Scheider Feld 23 in 51467 Bergisch Gladbach) und lernen Sie den neuen vollelektrischen OPEL Corsa-E und den neuen Opel Grandland X als Plug-In-Hybrid bei einer Probefahrt kennen. Infos über die eShare.one und wir bitten um eine kurze Anmeldung an die Mailadresse allebrod@eshare.one. Vielen Dank\, wir freuen uns auf Sie!
URL:https://ruhrmobil-e.de/veranstaltung/roadshow-opel-corsa-e/
LOCATION:Ladepark Schildgen\, Zum Scheider Feld 23\, Bergisch Gladbach\, 51467
CATEGORIES:Auto (Elektro-Auto),Öffentliche Veranstaltung
END:VEVENT
END:VCALENDAR