BEGIN:VCALENDAR
VERSION:2.0
PRODID:-//ruhrmobil-E e.V. - ECPv5.16.1//NONSGML v1.0//EN
CALSCALE:GREGORIAN
METHOD:PUBLISH
X-WR-CALNAME:ruhrmobil-E e.V.
X-ORIGINAL-URL:https://ruhrmobil-e.de
X-WR-CALDESC:Veranstaltungen für ruhrmobil-E e.V.
BEGIN:VTIMEZONE
TZID:Europe/Berlin
BEGIN:DAYLIGHT
TZOFFSETFROM:+0100
TZOFFSETTO:+0200
TZNAME:CEST
DTSTART:20150329T010000
END:DAYLIGHT
BEGIN:STANDARD
TZOFFSETFROM:+0200
TZOFFSETTO:+0100
TZNAME:CET
DTSTART:20151025T010000
END:STANDARD
END:VTIMEZONE
BEGIN:VEVENT
DTSTART;TZID=Europe/Berlin:20150623T170000
DTEND;TZID=Europe/Berlin:20150623T200000
DTSTAMP:20260423T124421
CREATED:20150612T105104Z
LAST-MODIFIED:20150612T105104Z
UID:3771-1435078800-1435089600@ruhrmobil-e.de
SUMMARY:Elektromobilität\, Photovoltaik und Speicher Dortmund
DESCRIPTION:Es gilt aufzuzeigen\, dass in der Kombination von Elektromobilität und mobilen wie stationären Speichern viele Möglichkeiten stecken. \nDieses Thema aufgreifend\, veranstaltet die EnergieAgentur.NRW (Netzwerk Photovoltaik) in Verbindung mit weiteren Themenfeldern und externen Gruppen einen Informationsabend zu Elektromobilität – Photovoltaik – Speicher. Die Veranstaltung findet in der BMW – Niederlassung in Dortmund am 23.06.2015 mit Kampagnenpartnern der EnergieAgentur.NRW (Netzwerk & Marktinitiative Photovoltaik NRW) und Vertretern der Modellregion Elektromobilität Rhein-Ruhr statt. Zielkunden sind Endkunden aus dem privaten und gewerblichen Sektor\, die sich für Elektromobilität und Nutzung der erneuerbaren Energien interessieren und informieren wollen.
URL:https://ruhrmobil-e.de/veranstaltung/elektromobilitaet-photovoltaik-und-speicher-dortmund/
LOCATION:BMW Niederlassung Dortmund\, Nordkirchenstraße 111\, Dortmund\, 44263
CATEGORIES:Fachkongress
END:VEVENT
END:VCALENDAR