BEGIN:VCALENDAR
VERSION:2.0
PRODID:-//ruhrmobil-E e.V. - ECPv5.16.1//NONSGML v1.0//EN
CALSCALE:GREGORIAN
METHOD:PUBLISH
X-WR-CALNAME:ruhrmobil-E e.V.
X-ORIGINAL-URL:https://ruhrmobil-e.de
X-WR-CALDESC:Veranstaltungen für ruhrmobil-E e.V.
BEGIN:VTIMEZONE
TZID:Europe/Berlin
BEGIN:DAYLIGHT
TZOFFSETFROM:+0100
TZOFFSETTO:+0200
TZNAME:CEST
DTSTART:20150329T010000
END:DAYLIGHT
BEGIN:STANDARD
TZOFFSETFROM:+0200
TZOFFSETTO:+0100
TZNAME:CET
DTSTART:20151025T010000
END:STANDARD
END:VTIMEZONE
BEGIN:VEVENT
DTSTART;TZID=Europe/Berlin:20151028T090000
DTEND;TZID=Europe/Berlin:20151028T180000
DTSTAMP:20260424T104511
CREATED:20151006T092049Z
LAST-MODIFIED:20151006T092049Z
UID:3962-1446022800-1446055200@ruhrmobil-e.de
SUMMARY:4. NRW Nachhaltigkeitstagung
DESCRIPTION:Die Landesregierung befindet sich bei der Erarbeitung einer Nachhaltigkeitsstrategie für Nordrhein-Westfalen auf der Zielgeraden: Bei der der 4. NRW-Nachhaltigkeitstagung am 28. Oktober 2015 stellt Umweltminister Johannes Remmel in Düsseldorf den Entwurf der Landesregierung für eine Nachhaltigkeitsstrategie des Landes Nordrhein-Westfalen vor und diskutiert mit Akteurinnen und Akteuren aus der Zivilgesellschaft\, aus Wirtschaft\, Wissenschaft\, Kommunen und nicht zuletzt zahlreichen Jugendlichen. Die Anregungen und Ideen sollen in die Nachhaltigkeitsstrategie einfließen. NRW wird damit Vorreiter bei der Umsetzung der internationalen Nachhaltigkeitsziele. Fünf parallele Foren sind den Themen „Wirtschaft 2030 – Neue Perspektiven“\, „NRW und Deutschland vor der Pariser Weltklimakonferenz“\, „Leitbild NRW 2030“\, „Fortschritt NRW – Forschung für nachhaltige Entwicklung“ und „Wie messen wir Nachhaltigkeit? – Nachhaltigkeitsziele und -indikatoren“ gewidmet. Darüber hinaus besteht Gelegenheit zum Austausch und zur Vernetzung\, besonders beim „Markt der Möglichkeiten“\, auf dem neue Ideen\, Praxisbeispiele und Zukunftsvisionen vorgestellt werden. Insbesondere den Nachhaltigkeitsvisionen von jungen Menschen werden auf der diesjährigen Tagung zahlreiche Plattformen geboten.
URL:https://ruhrmobil-e.de/veranstaltung/4-nrw-nachhaltigkeitstagung/
LOCATION:Landtag NRW\, Platz des Landtags 1\, Düsseldorf\, 40221
CATEGORIES:Fachkongress
END:VEVENT
END:VCALENDAR